BEGIN:VCALENDAR
VERSION:2.0
PRODID:-//Tucson Foodie - ECPv6.15.12.1//NONSGML v1.0//EN
CALSCALE:GREGORIAN
METHOD:PUBLISH
X-WR-CALNAME:Tucson Foodie
X-ORIGINAL-URL:https://tucsonfoodie.com
X-WR-CALDESC:Events for Tucson Foodie
REFRESH-INTERVAL;VALUE=DURATION:PT1H
X-Robots-Tag:noindex
X-PUBLISHED-TTL:PT1H
BEGIN:VTIMEZONE
TZID:America/Phoenix
BEGIN:STANDARD
TZOFFSETFROM:-0700
TZOFFSETTO:-0700
TZNAME:MST
DTSTART:20250101T000000
END:STANDARD
END:VTIMEZONE
BEGIN:VEVENT
DTSTART;TZID=America/Phoenix:20260415T000000
DTEND;TZID=America/Phoenix:20260415T235959
DTSTAMP:20260424T040258
CREATED:20260401T204317Z
LAST-MODIFIED:20260401T204330Z
UID:140901-1776211200-1776297599@tucsonfoodie.com
SUMMARY:Dine Out for Safety
DESCRIPTION:On Wednesday\, April 15\, 2026\, many incredible local restaurants are stepping up to support sexual assault survivors in Southern Arizona \n\n\n\nWhen you dine — or get coffee or a drink — at any participating location\, a portion of proceeds from your purchase goes directly to SACASA\, helping provide 24/7 crisis care\, medical forensic exams\, advocacy\, therapy and healing — all at no cost to survivors.
URL:https://tucsonfoodie.com/event/dine-out-restaurants-support/
LOCATION:Multiple Locations
ATTACH;FMTTYPE=image/png:https://tucsonfoodie.com/wp-content/uploads/2026/04/DOFS-1920-x-1080-px-5.png
END:VEVENT
END:VCALENDAR